Workbook

Sheet 7-123
A1: POD | B1: 738 | C1: =MID(A1,1,LEN(A1)-3)
A2: ROZ | B2: 649 | C2: =MID(A2,1,LEN(A2)-3)
A3: NIE | B3: 578 | C3: =MID(A3,1,LEN(A3)-3)
A4: KAR | B4: 400 | C4: =MID(A4,1,LEN(A4)-3)
A5: POS | B5: 398 | C5: =MID(A5,1,LEN(A5)-3)
A6: PRZ | B6: 388 | C6: =MID(A6,1,LEN(A6)-3)
A7: ZAP | B7: 381 | C7: =MID(A7,1,LEN(A7)-3)
A8: WYP | B8: 370 | C8: =MID(A8,1,LEN(A8)-3)
A9: WYS | B9: 364 | C9: =MID(A9,1,LEN(A9)-3)
A10: ZAS | B10: 360 | C10: =MID(A10,1,LEN(A10)-3)
A11: STR | B11: 337 | C11: =MID(A11,1,LEN(A11)-3)
A12: NAD | B12: 332 | C12: =MID(A12,1,LEN(A12)-3)
... A3889: ŻYG | B3889: 1 | C3889: =MID(A3889,1,LEN(A3889)-3)

Sheet 7-234
A1: RZE | B1: 465 | C1: =MID(A1,1,LEN(A1)-3)
A2: ARA | B2: 387 | C2: =MID(A2,1,LEN(A2)-3)
A3: RZY | B3: 347 | C3: =MID(A3,1,LEN(A3)-3)
A4: ALE | B4: 325 | C4: =MID(A4,1,LEN(A4)-3)
A5: IER | B5: 292 | C5: =MID(A5,1,LEN(A5)-3)
A6: OLE | B6: 283 | C6: =MID(A6,1,LEN(A6)-3)
A7: API | B7: 277 | C7: =MID(A7,1,LEN(A7)-3)
A8: IEL | B8: 270 | C8: =MID(A8,1,LEN(A8)-3)
A9: ANI | B9: 267 | C9: =MID(A9,1,LEN(A9)-3)
A10: AWI | B10: 261 | C10: =MID(A10,1,LEN(A10)-3)
A11: APA | B11: 254 | C11: =MID(A11,1,LEN(A11)-3)
A12: ASZ | B12: 239 | C12: =MID(A12,1,LEN(A12)-3)
... A1271: OŁY | B1271: 27 | C1271: =MID(A1271,1,LEN(A1271)-3)
A1272: 517 | B1272: 42 | C1272: =MID(A1272,1,LEN(A1272)-3)
A1273: AFE | B1273: 27 | C1273: =MID(A1273,1,LEN(A1273)-3)
A1274: AWU | B1274: 27 | C1274: =MID(A1274,1,LEN(A1274)-3)
A1275: URU | B1275: 27 | C1275: =MID(A1275,1,LEN(A1275)-3)
A1276: IMI | B1276: 27 | C1276: =MID(A1276,1,LEN(A1276)-3)
A1277: ŚNI | B1277: 27 | C1277: =MID(A1277,1,LEN(A1277)-3)
A1278: ŻYJ | B1278: 27 | C1278: =MID(A1278,1,LEN(A1278)-3)
A1279: YSŁ | B1279: 27 | C1279: =MID(A1279,1,LEN(A1279)-3)
A1280: YGL | B1280: 27 | C1280: =MID(A1280,1,LEN(A1280)-3)
A1281: BWO | B1281: 27 | C1281: =MID(A1281,1,LEN(A1281)-3)
A1282: DCZ | B1282: 27 | C1282: =MID(A1282,1,LEN(A1282)-3)
A1283: DKO | B1283: 27 | C1283: =MID(A1283,1,LEN(A1283)-3)
A1284: DYM | B1284: 27 | C1284: =MID(A1284,1,LEN(A1284)-3)
... A1482: IZY | B1482: 23 | C1482: =MID(A1482,1,LEN(A1482)-3)
A1483: 423 | B1483: 42 | C1483: =MID(A1483,1,LEN(A1483)-3)
A1484: IBI | B1484: 23 | C1484: =MID(A1484,1,LEN(A1484)-3)
A1485: ULT | B1485: 23 | C1485: =MID(A1485,1,LEN(A1485)-3)
A1486: STN | B1486: 23 | C1486: =MID(A1486,1,LEN(A1486)-3)
A1487: ZON | B1487: 23 | C1487: =MID(A1487,1,LEN(A1487)-3)
A1488: AGŁ | B1488: 23 | C1488: =MID(A1488,1,LEN(A1488)-3)
A1489: ŁOP | B1489: 23 | C1489: =MID(A1489,1,LEN(A1489)-3)
A1490: ARŻ | B1490: 23 | C1490: =MID(A1490,1,LEN(A1490)-3)
A1491: IĘD | B1491: 23 | C1491: =MID(A1491,1,LEN(A1491)-3)
A1492: ATĘ | B1492: 23 | C1492: =MID(A1492,1,LEN(A1492)-3)
A1493: DPL | B1493: 23 | C1493: =MID(A1493,1,LEN(A1493)-3)
A1494: SIO | B1494: 23 | C1494: =MID(A1494,1,LEN(A1494)-3)
A1495: TRĘ | B1495: 23 | C1495: =MID(A1495,1,LEN(A1495)-3)
...

Sheet 7-345
A1: RAN | B1: 285 | C1: =MID(A1,1,LEN(A1)-3)
A2: DZI | B2: 285 | C2: =MID(A2,1,LEN(A2)-3)
A3: CHA | B3: 284 | C3: =MID(A3,1,LEN(A3)-3)
A4: CZY | B4: 272 | C4: =MID(A4,1,LEN(A4)-3)
A5: ALA | B5: 261 | C5: =MID(A5,1,LEN(A5)-3)
A6: ACZ | B6: 240 | C6: =MID(A6,1,LEN(A6)-3)
A7: OCZ | B7: 238 | C7: =MID(A7,1,LEN(A7)-3)
A8: STA | B8: 232 | C8: =MID(A8,1,LEN(A8)-3)
A9: ANI | B9: 230 | C9: =MID(A9,1,LEN(A9)-3)
A10: ONI | B10: 225 | C10: =MID(A10,1,LEN(A10)-3)
A11: SKA | B11: 220 | C11: =MID(A11,1,LEN(A11)-3)
A12: ROW | B12: 219 | C12: =MID(A12,1,LEN(A12)-3)
... A2775: DYL | B2775: 9 | C2775: =MID(A2775,1,LEN(A2775)-3)
A2776: 713 | B2776: 42 | C2776: =MID(A2776,1,LEN(A2776)-3)
A2777: KCH | B2777: 9 | C2777: =MID(A2777,1,LEN(A2777)-3)
A2778: KOJ | B2778: 9 | C2778: =MID(A2778,1,LEN(A2778)-3)
A2779: RMY | B2779: 9 | C2779: =MID(A2779,1,LEN(A2779)-3)
A2780: ZKR | B2780: 9 | C2780: =MID(A2780,1,LEN(A2780)-3)
A2781: EŻĄ | B2781: 9 | C2781: =MID(A2781,1,LEN(A2781)-3)
A2782: NOK | B2782: 9 | C2782: =MID(A2782,1,LEN(A2782)-3)
A2783: SEK | B2783: 9 | C2783: =MID(A2783,1,LEN(A2783)-3)
A2784: EED | B2784: 9 | C2784: =MID(A2784,1,LEN(A2784)-3)
A2785: EFU | B2785: 9 | C2785: =MID(A2785,1,LEN(A2785)-3)
A2786: IND | B2786: 9 | C2786: =MID(A2786,1,LEN(A2786)-3)
A2787: UFF | B2787: 9 | C2787: =MID(A2787,1,LEN(A2787)-3)
A2788: AŹN | B2788: 9 | C2788: =MID(A2788,1,LEN(A2788)-3)
... A2884: IĘŹ | B2884: 9 | C2884: =MID(A2884,1,LEN(A2884)-3)
A2885: 622 | B2885: 42 | C2885: =MID(A2885,1,LEN(A2885)-3)
A2886: CHĘ | B2886: 9 | C2886: =MID(A2886,1,LEN(A2886)-3)
A2887: ADŻ | B2887: 8 | C2887: =MID(A2887,1,LEN(A2887)-3)
A2888: UBU | B2888: 8 | C2888: =MID(A2888,1,LEN(A2888)-3)
A2889: CIŚ | B2889: 8 | C2889: =MID(A2889,1,LEN(A2889)-3)
A2890: EJK | B2890: 8 | C2890: =MID(A2890,1,LEN(A2890)-3)
A2891: GEZ | B2891: 8 | C2891: =MID(A2891,1,LEN(A2891)-3)
A2892: IMO | B2892: 8 | C2892: =MID(A2892,1,LEN(A2892)-3)
A2893: MAW | B2893: 8 | C2893: =MID(A2893,1,LEN(A2893)-3)
A2894: MEM | B2894: 8 | C2894: =MID(A2894,1,LEN(A2894)-3)
A2895: FIB | B2895: 8 | C2895: =MID(A2895,1,LEN(A2895)-3)
A2896: PUT | B2896: 8 | C2896: =MID(A2896,1,LEN(A2896)-3)
A2897: AGR | B2897: 8 | C2897: =MID(A2897,1,LEN(A2897)-3)
...

Sheet 7-456
A1: KOW | B1: 842 | C1: =MID(A1,1,LEN(A1)-3)
A2: ANI | B2: 768 | C2: =MID(A2,1,LEN(A2)-3)
A3: OWA | B3: 625 | C3: =MID(A3,1,LEN(A3)-3)
A4: KAM | B4: 579 | C4: =MID(A4,1,LEN(A4)-3)
A5: KAC | B5: 523 | C5: =MID(A5,1,LEN(A5)-3)
A6: ÓWK | B6: 523 | C6: =MID(A6,1,LEN(A6)-3)
A7: TOW | B7: 510 | C7: =MID(A7,1,LEN(A7)-3)
A8: NIC | B8: 489 | C8: =MID(A8,1,LEN(A8)-3)
A9: ROW | B9: 414 | C9: =MID(A9,1,LEN(A9)-3)
A10: ONI | B10: 399 | C10: =MID(A10,1,LEN(A10)-3)
A11: ENI | B11: 394 | C11: =MID(A11,1,LEN(A11)-3)
A12: AŁE | B12: 385 | C12: =MID(A12,1,LEN(A12)-3)
... A1008: MET | B1008: 27 | C1008: =MID(A1008,1,LEN(A1008)-3)
A1009: 396 | B1009: 42 | C1009: =MID(A1009,1,LEN(A1009)-3)
A1010: ENÓ | B1010: 27 | C1010: =MID(A1010,1,LEN(A1010)-3)
A1011: EJE | B1011: 27 | C1011: =MID(A1011,1,LEN(A1011)-3)
A1012: ILA | B1012: 27 | C1012: =MID(A1012,1,LEN(A1012)-3)
A1013: KRO | B1013: 27 | C1013: =MID(A1013,1,LEN(A1013)-3)
A1014: AŁÓ | B1014: 27 | C1014: =MID(A1014,1,LEN(A1014)-3)
A1015: RIO | B1015: 27 | C1015: =MID(A1015,1,LEN(A1015)-3)
A1016: UTY | B1016: 27 | C1016: =MID(A1016,1,LEN(A1016)-3)
A1017: WEG | B1017: 27 | C1017: =MID(A1017,1,LEN(A1017)-3)
A1018: HAL | B1018: 27 | C1018: =MID(A1018,1,LEN(A1018)-3)
A1019: GŁE | B1019: 27 | C1019: =MID(A1019,1,LEN(A1019)-3)
A1020: OKÓ | B1020: 27 | C1020: =MID(A1020,1,LEN(A1020)-3)
A1021: TNE | B1021: 27 | C1021: =MID(A1021,1,LEN(A1021)-3)
... A1158: KTA | B1158: 24 | C1158: =MID(A1158,1,LEN(A1158)-3)
A1159: 453 | B1159: 42 | C1159: =MID(A1159,1,LEN(A1159)-3)
A1160: IUR | B1160: 24 | C1160: =MID(A1160,1,LEN(A1160)-3)
A1161: ISN | B1161: 24 | C1161: =MID(A1161,1,LEN(A1161)-3)
A1162: OŃC | B1162: 24 | C1162: =MID(A1162,1,LEN(A1162)-3)
A1163: OŚM | B1163: 24 | C1163: =MID(A1163,1,LEN(A1163)-3)
A1164: OŚŻ | B1164: 24 | C1164: =MID(A1164,1,LEN(A1164)-3)
A1165: WOL | B1165: 24 | C1165: =MID(A1165,1,LEN(A1165)-3)
A1166: ELN | B1166: 24 | C1166: =MID(A1166,1,LEN(A1166)-3)
A1167: ZIC | B1167: 24 | C1167: =MID(A1167,1,LEN(A1167)-3)
A1168: EPA | B1168: 24 | C1168: =MID(A1168,1,LEN(A1168)-3)
A1169: KOZ | B1169: 24 | C1169: =MID(A1169,1,LEN(A1169)-3)
A1170: OJK | B1170: 24 | C1170: =MID(A1170,1,LEN(A1170)-3)
A1171: AWM | B1171: 24 | C1171: =MID(A1171,1,LEN(A1171)-3)
...

Sheet 7-567
A1: ACH | B1: 2789 | C1: =MID(A1,1,LEN(A1)-3)
A2: AMI | B2: 2783 | C2: =MID(A2,1,LEN(A2)-3)
A3: OWI | B3: 1767 | C3: =MID(A3,1,LEN(A3)-3)
A4: CIE | B4: 1528 | C4: =MID(A4,1,LEN(A4)-3)
A5: NIE | B5: 1201 | C5: =MID(A5,1,LEN(A5)-3)
A6: KOM | B6: 961 | C6: =MID(A6,1,LEN(A6)-3)
A7: OWA | B7: 826 | C7: =MID(A7,1,LEN(A7)-3)
A8: OWY | B8: 819 | C8: =MID(A8,1,LEN(A8)-3)
A9: OWĄ | B9: 818 | C9: =MID(A9,1,LEN(A9)-3)
A10: OWE | B10: 815 | C10: =MID(A10,1,LEN(A10)-3)
A11: ANY | B11: 653 | C11: =MID(A11,1,LEN(A11)-3)
A12: ALI | B12: 650 | C12: =MID(A12,1,LEN(A12)-3)
... A1094: LET | B1094: 14 | C1094: =MID(A1094,1,LEN(A1094)-3)
A1095: 504 | B1095: 42 | C1095: =MID(A1095,1,LEN(A1095)-3)
A1096: MAM | B1096: 14 | C1096: =MID(A1096,1,LEN(A1096)-3)
A1097: MII | B1097: 14 | C1097: =MID(A1097,1,LEN(A1097)-3)
A1098: MIŁ | B1098: 14 | C1098: =MID(A1098,1,LEN(A1098)-3)
A1099: MIO | B1099: 14 | C1099: =MID(A1099,1,LEN(A1099)-3)
A1100: MKU | B1100: 14 | C1100: =MID(A1100,1,LEN(A1100)-3)
A1101: NGĄ | B1101: 14 | C1101: =MID(A1101,1,LEN(A1101)-3)
A1102: NGĘ | B1102: 14 | C1102: =MID(A1102,1,LEN(A1102)-3)
A1103: NSY | B1103: 14 | C1103: =MID(A1103,1,LEN(A1103)-3)
A1104: ODO | B1104: 14 | C1104: =MID(A1104,1,LEN(A1104)-3)
A1105: OŁY | B1105: 14 | C1105: =MID(A1105,1,LEN(A1105)-3)
A1106: OSO | B1106: 14 | C1106: =MID(A1106,1,LEN(A1106)-3)
A1107: ÓTŁ | B1107: 14 | C1107: =MID(A1107,1,LEN(A1107)-3)
... A1380: KOT | B1380: 9 | C1380: =MID(A1380,1,LEN(A1380)-3)
A1381: 683 | B1381: 42 | C1381: =MID(A1381,1,LEN(A1381)-3)
A1382: MBA | B1382: 9 | C1382: =MID(A1382,1,LEN(A1382)-3)
A1383: MBY | B1383: 9 | C1383: =MID(A1383,1,LEN(A1383)-3)
A1384: MEN | B1384: 9 | C1384: =MID(A1384,1,LEN(A1384)-3)
A1385: MER | B1385: 9 | C1385: =MID(A1385,1,LEN(A1385)-3)
A1386: NET | B1386: 9 | C1386: =MID(A1386,1,LEN(A1386)-3)
A1387: NOS | B1387: 9 | C1387: =MID(A1387,1,LEN(A1387)-3)
A1388: NSE | B1388: 9 | C1388: =MID(A1388,1,LEN(A1388)-3)
A1389: NTĄ | B1389: 9 | C1389: =MID(A1389,1,LEN(A1389)-3)
A1390: ŃCY | B1390: 9 | C1390: =MID(A1390,1,LEN(A1390)-3)
A1391: OMI | B1391: 9 | C1391: =MID(A1391,1,LEN(A1391)-3)
A1392: ÓKŁ | B1392: 9 | C1392: =MID(A1392,1,LEN(A1392)-3)
A1393: ÓRZ | B1393: 9 | C1393: =MID(A1393,1,LEN(A1393)-3)
...

Sheet Arkusz8
F1: zbitki trójek | P1: zbitki dwójek
B2: SŁOWO: | C2: kigelia | F2: =MID($C$2,1,3) -> kig | G2: =MID($C$2,2,3) -> ige | H2: =MID($C$2,3,3) -> gel | I2: =MID($C$2,4,3) -> eli | J2: =MID($C$2,5,3) -> lia | P2: =MID($C$2,1,2) -> ki | Q2: =MID($C$2,2,2) -> ig | R2: =MID($C$2,3,2) -> ge | S2: =MID($C$2,4,2) -> el | T2: =MID($C$2,5,2) -> li | U2: =MID($C$2,6,2) -> ia
D3: występowanie trójek na pozycjach | E3: 123 | F3: =IFERROR(VLOOKUP(F2,'7-123'!A:BL,2,FALSE),0) -> 7 | G3: =IFERROR(VLOOKUP(G2,'7-123'!A:B,2,FALSE),0) -> 2 | H3: =IFERROR(VLOOKUP(H2,'7-123'!A:B,2,FALSE),0) -> 2 | I3: =IFERROR(VLOOKUP(I2,'7-123'!A:B,2,FALSE),0) -> 18 | J3: =IFERROR(VLOOKUP(J2,'7-123'!A:B,2,FALSE),0) -> 17 | N3: występowanie dwójek na pozycjach | O3: 12 | P3: =IFERROR(VLOOKUP(P2,'7-12'!A:B,2,FALSE),0) -> 602 | Q3: =IFERROR(VLOOKUP(Q2,'7-12'!A:B,2,FALSE),0) -> 83 | R3: =IFERROR(VLOOKUP(R2,'7-12'!A:B,2,FALSE),0) -> 204 | S3: =IFERROR(VLOOKUP(S2,'7-12'!A:B,2,FALSE),0) -> 119 | T3: =IFERROR(VLOOKUP(T2,'7-12'!A:B,2,FALSE),0) -> 733 | U3: =IFERROR(VLOOKUP(U2,'7-12'!A:B,2,FALSE),0) -> 0
E4: 234 | F4: =IFERROR(VLOOKUP(F2,'7-234'!A:BL,2,FALSE),0) -> 0 | G4: =IFERROR(VLOOKUP(G2,'7-234'!A:B,2,FALSE),0) -> 9 | H4: =IFERROR(VLOOKUP(H2,'7-234'!A:B,2,FALSE),0) -> 2 | I4: =IFERROR(VLOOKUP(I2,'7-234'!A:B,2,FALSE),0) -> 110 | J4: =IFERROR(VLOOKUP(J2,'7-234'!A:B,2,FALSE),0) -> 16 | O4: 23 | P4: =IFERROR(VLOOKUP(P2,'7-23'!A:B,2,FALSE),0) -> 151 | Q4: =IFERROR(VLOOKUP(Q2,'7-23'!A:B,2,FALSE),0) -> 334 | R4: =IFERROR(VLOOKUP(R2,'7-23'!A:B,2,FALSE),0) -> 56 | S4: =IFERROR(VLOOKUP(S2,'7-23'!A:B,2,FALSE),0) -> 725 | T4: =IFERROR(VLOOKUP(T2,'7-23'!A:B,2,FALSE),0) -> 635 | U4: =IFERROR(VLOOKUP(U2,'7-23'!A:B,2,FALSE),0) -> 573
E5: 345 | F5: =IFERROR(VLOOKUP(F2,'7-345'!A:BL,2,FALSE),0) -> 0 | G5: =IFERROR(VLOOKUP(G2,'7-345'!A:B,2,FALSE),0) -> 0 | H5: =IFERROR(VLOOKUP(H2,'7-345'!A:B,2,FALSE),0) -> 8 | I5: =IFERROR(VLOOKUP(I2,'7-345'!A:B,2,FALSE),0) -> 101 | J5: =IFERROR(VLOOKUP(J2,'7-345'!A:B,2,FALSE),0) -> 57 | O5: 34 | P5: =IFERROR(VLOOKUP(P2,'7-34'!A:B,2,FALSE),0) -> 292 | Q5: =IFERROR(VLOOKUP(Q2,'7-34'!A:B,2,FALSE),0) -> 99 | R5: =IFERROR(VLOOKUP(R2,'7-34'!A:B,2,FALSE),0) -> 88 | S5: =IFERROR(VLOOKUP(S2,'7-34'!A:B,2,FALSE),0) -> 438 | T5: =IFERROR(VLOOKUP(T2,'7-34'!A:B,2,FALSE),0) -> 1058 | U5: =IFERROR(VLOOKUP(U2,'7-34'!A:B,2,FALSE),0) -> 485
E6: 456 | F6: =IFERROR(VLOOKUP(F2,'7-456'!A:BL,2,FALSE),0) -> 0 | G6: =IFERROR(VLOOKUP(G2,'7-456'!A:B,2,FALSE),0) -> 4 | H6: =IFERROR(VLOOKUP(H2,'7-456'!A:B,2,FALSE),0) -> 12 | I6: =IFERROR(VLOOKUP(I2,'7-456'!A:B,2,FALSE),0) -> 120 | J6: =IFERROR(VLOOKUP(J2,'7-456'!A:B,2,FALSE),0) -> 3 | O6: 45 | P6: =IFERROR(VLOOKUP(P2,'7-45'!A:B,2,FALSE),0) -> 553 | Q6: =IFERROR(VLOOKUP(Q2,'7-45'!A:B,2,FALSE),0) -> 76 | R6: =IFERROR(VLOOKUP(R2,'7-45'!A:B,2,FALSE),0) -> 58 | S6: =IFERROR(VLOOKUP(S2,'7-45'!A:B,2,FALSE),0) -> 581 | T6: =IFERROR(VLOOKUP(T2,'7-45'!A:B,2,FALSE),0) -> 1290 | U6: =IFERROR(VLOOKUP(U2,'7-45'!A:B,2,FALSE),0) -> 1076
E7: 567 | F7: =IFERROR(VLOOKUP(F2,'7-567'!A:BL,2,FALSE),0) -> 0 | G7: =IFERROR(VLOOKUP(G2,'7-567'!A:B,2,FALSE),0) -> 0 | H7: =IFERROR(VLOOKUP(H2,'7-567'!A:B,2,FALSE),0) -> 1 | I7: =IFERROR(VLOOKUP(I2,'7-567'!A:B,2,FALSE),0) -> 154 | J7: =IFERROR(VLOOKUP(J2,'7-567'!A:B,2,FALSE),0) -> 42 | K7: =(J7+I6+H5+G4+F3)/5 -> 37.2 | O7: 56 | P7: =IFERROR(VLOOKUP(P2,'7-56'!A:B,2,FALSE),0) -> 369 | Q7: =IFERROR(VLOOKUP(Q2,'7-56'!A:B,2,FALSE),0) -> 25 | R7: =IFERROR(VLOOKUP(R2,'7-56'!A:B,2,FALSE),0) -> 37 | S7: =IFERROR(VLOOKUP(S2,'7-56'!A:B,2,FALSE),0) -> 407 | T7: =IFERROR(VLOOKUP(T2,'7-56'!A:B,2,FALSE),0) -> 645 | U7: =IFERROR(VLOOKUP(U2,'7-56'!A:B,2,FALSE),0) -> 504
O8: 67 | P8: =IFERROR(VLOOKUP(P2,'7-67'!A:B,2,FALSE),0) -> 2383 | Q8: =IFERROR(VLOOKUP(Q2,'7-67'!A:B,2,FALSE),0) -> 3 | R8: =IFERROR(VLOOKUP(R2,'7-67'!A:B,2,FALSE),0) -> 11 | S8: =IFERROR(VLOOKUP(S2,'7-67'!A:B,2,FALSE),0) -> 103 | T8: =IFERROR(VLOOKUP(T2,'7-67'!A:B,2,FALSE),0) -> 1927 | U8: =IFERROR(VLOOKUP(U2,'7-67'!A:B,2,FALSE),0) -> 972
E10: śr waż (w1) | F10: =(F3*$D$11+F4+F5+F6+F7)/(4+$D$11) -> 5.5263158 | G10: =(G3+G4*$D$11+G5+G6+G7)/(4+$D$11) -> 7.4210526 | H10: =(H3+H4+H5*$D$11+H6+H7)/(4+$D$11) -> 7.2105263 | I10: =(I3+I4+I5+I6*$D$11+I7)/(4+$D$11) -> 114.89474 | J10: =(J3+J4+J5+J6+J7*$D$11)/(4+$D$11) -> 38.052632 | K10: =AVERAGE(F10:J10) -> 34.621053
C11: w1: | D11: 15
B12: w2 | C12: 2 | D12: gdy liczba trójek na pozycji< | E12: 100 | F12: =F3<$E$12 -> TRUE | G12: =G4<$E$12 -> TRUE | H12: =H5<$E$12 -> TRUE | I12: =I6<$E$12 -> FALSE | J12: =J7<$E$12 -> TRUE
B13: w3 | C13: 5 | D13: gdy liczba trójek na pozycji< | E13: 10 | F13: =F3<$E$13 -> TRUE | G13: =G4<$E$13 -> TRUE | H13: =H5<$E$13 -> TRUE | I13: =I6<$E$13 -> FALSE | J13: =J7<$E$13 -> FALSE
F15: =IF(F13,$C$13,(IF(F12,$C$12,1))) -> 5 | G15: =IF(G13,$C$13,(IF(G12,$C$12,1))) -> 5 | H15: =IF(H13,$C$13,(IF(H12,$C$12,1))) -> 5 | I15: =IF(I13,$C$13,(IF(I12,$C$12,1))) -> 1 | J15: =IF(J13,$C$13,(IF(J12,$C$12,1))) -> 2
I16: śr waż (w2+w3) | K16: =(F10*F15+G10*G15+H10*H15+I10*I15+J10*J15)/(F15+G15+I15+J15+H15) -> 16.210526

Sheet Arkusz2
A1: 1762RA | B1: =MID(A1,LEN(C1)+1,2) -> RA | C1: =MID(A1,1,LEN(A1)-2) -> 1762
A2: 1420LE | B2: =MID(A2,LEN(C2)+1,2) -> LE | C2: =MID(A2,1,LEN(A2)-2) -> 1420
A3: 1305RO | B3: =MID(A3,LEN(C3)+1,2) -> RO | C3: =MID(A3,1,LEN(A3)-2) -> 1305
A4: 1181CZ | B4: =MID(A4,LEN(C4)+1,2) -> CZ | C4: =MID(A4,1,LEN(A4)-2) -> 1181
A5: 1134IE | B5: =MID(A5,LEN(C5)+1,2) -> IE | C5: =MID(A5,1,LEN(A5)-2) -> 1134
A6: 1132NI | B6: =MID(A6,LEN(C6)+1,2) -> NI | C6: =MID(A6,1,LEN(A6)-2) -> 1132
A7: 1064PI | B7: =MID(A7,LEN(C7)+1,2) -> PI | C7: =MID(A7,1,LEN(A7)-2) -> 1064
A8: 1061LA | B8: =MID(A8,LEN(C8)+1,2) -> LA | C8: =MID(A8,1,LEN(A8)-2) -> 1061
A9: 1058LI | B9: =MID(A9,LEN(C9)+1,2) -> LI | C9: =MID(A9,1,LEN(A9)-2) -> 1058
A10: 1029WI | B10: =MID(A10,LEN(C10)+1,2) -> WI | C10: =MID(A10,1,LEN(A10)-2) -> 1029
A11: 1021SZ | B11: =MID(A11,LEN(C11)+1,2) -> SZ | C11: =MID(A11,1,LEN(A11)-2) -> 1021
A12: 1005KA | B12: =MID(A12,LEN(C12)+1,2) -> KA | C12: =MID(A12,1,LEN(A12)-2) -> 1005
... A710: 1YA | B710: =MID(A710,LEN(C710)+1,2) -> YA | C710: =MID(A710,1,LEN(A710)-2) -> 1

Sheet 7-12
A1: PO | B1: 4393
A2: ZA | B2: 3393
A3: WY | B3: 3363
A4: NA | B4: 2597
A5: KO | B5: 1959
A6: KA | B6: 1937
A7: OD | B7: 1861
A8: DO | B8: 1821
A9: MA | B9: 1812
A10: OB | B10: 1715
A11: SZ | B11: 1600
A12: PA | B12: 1535
... A462: TJ | B462: 1

Sheet 7-23
A1: AR | B1: 2645
A2: IE | B2: 1906
A3: AS | B3: 1724
A4: RA | B4: 1702
A5: OR | B5: 1641
A6: AL | B6: 1479
A7: OD | B7: 1356
A8: AN | B8: 1347
A9: AP | B9: 1313
A10: RO | B10: 1312
A11: RZ | B11: 1259
A12: OL | B12: 1247
... A615: ŹI | B615: 1

Sheet 7-34
A1: RA | B1: 1762
A2: LE | B2: 1420
A3: RO | B3: 1305
A4: CZ | B4: 1181
A5: IE | B5: 1134
A6: NI | B6: 1132
A7: PI | B7: 1064
A8: LA | B8: 1061
A9: LI | B9: 1058
A10: WI | B10: 1029
A11: SZ | B11: 1021
A12: KA | B12: 1005
... A710: YA | B710: 1

Sheet 7-45
A1: AN | B1: 2118
A2: KA | B2: 2106
A3: NI | B3: 2041
A4: OW | B4: 1876
A5: AR | B5: 1722
A6: CZ | B6: 1461
A7: RA | B7: 1394
A8: ER | B8: 1337
A9: LA | B9: 1312
A10: LI | B10: 1290
A11: TA | B11: 1269
A12: ON | B12: 1252
... A668: ŻP | B668: 1

Sheet 7-56
A1: OW | B1: 5169
A2: AN | B2: 3428
A3: NI | B3: 3332
A4: AM | B4: 3250
A5: AC | B5: 3071
A6: CI | B6: 2091
A7: AŁ | B7: 1948
A8: UJ | B8: 1929
A9: ON | B9: 1692
A10: IE | B10: 1393
A11: ĄC | B11: 1265
A12: WA | B12: 1202
... A583: ŹO | B583: 1

Sheet 7-67
A1: OM | B1: 5064
A2: IE | B2: 4273
A3: CH | B3: 3298
A4: EM | B4: 3281
A5: MI | B5: 3259
A6: ÓW | B6: 2903
A7: MY | B7: 2688
A8: KI | B8: 2383
A9: KA | B9: 2365
A10: LI | B10: 1927
A11: WI | B11: 1901
A12: NY | B12: 1897
... A470: ŻN | B470: 1
