Workbook

Sheet 7-123
A1: POD | B1: 738 | C1: =MID(A1,1,LEN(A1)-3)
A2: ROZ | B2: 649 | C2: =MID(A2,1,LEN(A2)-3)
A3: NIE | B3: 578 | C3: =MID(A3,1,LEN(A3)-3)
A4: KAR | B4: 400 | C4: =MID(A4,1,LEN(A4)-3)
A5: POS | B5: 398 | C5: =MID(A5,1,LEN(A5)-3)
A6: PRZ | B6: 388 | C6: =MID(A6,1,LEN(A6)-3)
A7: ZAP | B7: 381 | C7: =MID(A7,1,LEN(A7)-3)
A8: WYP | B8: 370 | C8: =MID(A8,1,LEN(A8)-3)
A9: WYS | B9: 364 | C9: =MID(A9,1,LEN(A9)-3)
A10: ZAS | B10: 360 | C10: =MID(A10,1,LEN(A10)-3)
A11: STR | B11: 337 | C11: =MID(A11,1,LEN(A11)-3)
A12: NAD | B12: 332 | C12: =MID(A12,1,LEN(A12)-3)
... A3889: ŻYG | B3889: 1 | C3889: =MID(A3889,1,LEN(A3889)-3)

Sheet 7-234
A1: RZE | B1: 465 | C1: =MID(A1,1,LEN(A1)-3)
A2: ARA | B2: 387 | C2: =MID(A2,1,LEN(A2)-3)
A3: RZY | B3: 347 | C3: =MID(A3,1,LEN(A3)-3)
A4: ALE | B4: 325 | C4: =MID(A4,1,LEN(A4)-3)
A5: IER | B5: 292 | C5: =MID(A5,1,LEN(A5)-3)
A6: OLE | B6: 283 | C6: =MID(A6,1,LEN(A6)-3)
A7: API | B7: 277 | C7: =MID(A7,1,LEN(A7)-3)
A8: IEL | B8: 270 | C8: =MID(A8,1,LEN(A8)-3)
A9: ANI | B9: 267 | C9: =MID(A9,1,LEN(A9)-3)
A10: AWI | B10: 261 | C10: =MID(A10,1,LEN(A10)-3)
A11: APA | B11: 254 | C11: =MID(A11,1,LEN(A11)-3)
A12: ASZ | B12: 239 | C12: =MID(A12,1,LEN(A12)-3)
... A1271: OŁY | B1271: 27 | C1271: =MID(A1271,1,LEN(A1271)-3)
A1272: 517 | B1272: 42 | C1272: =MID(A1272,1,LEN(A1272)-3)
A1273: AFE | B1273: 27 | C1273: =MID(A1273,1,LEN(A1273)-3)
A1274: AWU | B1274: 27 | C1274: =MID(A1274,1,LEN(A1274)-3)
A1275: URU | B1275: 27 | C1275: =MID(A1275,1,LEN(A1275)-3)
A1276: IMI | B1276: 27 | C1276: =MID(A1276,1,LEN(A1276)-3)
A1277: ŚNI | B1277: 27 | C1277: =MID(A1277,1,LEN(A1277)-3)
A1278: ŻYJ | B1278: 27 | C1278: =MID(A1278,1,LEN(A1278)-3)
A1279: YSŁ | B1279: 27 | C1279: =MID(A1279,1,LEN(A1279)-3)
A1280: YGL | B1280: 27 | C1280: =MID(A1280,1,LEN(A1280)-3)
A1281: BWO | B1281: 27 | C1281: =MID(A1281,1,LEN(A1281)-3)
A1282: DCZ | B1282: 27 | C1282: =MID(A1282,1,LEN(A1282)-3)
A1283: DKO | B1283: 27 | C1283: =MID(A1283,1,LEN(A1283)-3)
A1284: DYM | B1284: 27 | C1284: =MID(A1284,1,LEN(A1284)-3)
... A1482: IZY | B1482: 23 | C1482: =MID(A1482,1,LEN(A1482)-3)
A1483: 423 | B1483: 42 | C1483: =MID(A1483,1,LEN(A1483)-3)
A1484: IBI | B1484: 23 | C1484: =MID(A1484,1,LEN(A1484)-3)
A1485: ULT | B1485: 23 | C1485: =MID(A1485,1,LEN(A1485)-3)
A1486: STN | B1486: 23 | C1486: =MID(A1486,1,LEN(A1486)-3)
A1487: ZON | B1487: 23 | C1487: =MID(A1487,1,LEN(A1487)-3)
A1488: AGŁ | B1488: 23 | C1488: =MID(A1488,1,LEN(A1488)-3)
A1489: ŁOP | B1489: 23 | C1489: =MID(A1489,1,LEN(A1489)-3)
A1490: ARŻ | B1490: 23 | C1490: =MID(A1490,1,LEN(A1490)-3)
A1491: IĘD | B1491: 23 | C1491: =MID(A1491,1,LEN(A1491)-3)
A1492: ATĘ | B1492: 23 | C1492: =MID(A1492,1,LEN(A1492)-3)
A1493: DPL | B1493: 23 | C1493: =MID(A1493,1,LEN(A1493)-3)
A1494: SIO | B1494: 23 | C1494: =MID(A1494,1,LEN(A1494)-3)
A1495: TRĘ | B1495: 23 | C1495: =MID(A1495,1,LEN(A1495)-3)
... A1536: DES | B1536: 22 | C1536: =MID(A1536,1,LEN(A1536)-3)
A1537: 391 | B1537: 42 | C1537: =MID(A1537,1,LEN(A1537)-3)
A1538: LES | B1538: 22 | C1538: =MID(A1538,1,LEN(A1538)-3)
A1539: UZA | B1539: 22 | C1539: =MID(A1539,1,LEN(A1539)-3)
A1540: NIC | B1540: 22 | C1540: =MID(A1540,1,LEN(A1540)-3)
A1541: ADŹ | B1541: 22 | C1541: =MID(A1541,1,LEN(A1541)-3)
A1542: AGÓ | B1542: 22 | C1542: =MID(A1542,1,LEN(A1542)-3)
A1543: AŁÓ | B1543: 22 | C1543: =MID(A1543,1,LEN(A1543)-3)
A1544: ĘDR | B1544: 22 | C1544: =MID(A1544,1,LEN(A1544)-3)
A1545: ILK | B1545: 22 | C1545: =MID(A1545,1,LEN(A1545)-3)
A1546: ROŚ | B1546: 22 | C1546: =MID(A1546,1,LEN(A1546)-3)
A1547: AZN | B1547: 22 | C1547: =MID(A1547,1,LEN(A1547)-3)
A1548: GLĄ | B1548: 22 | C1548: =MID(A1548,1,LEN(A1548)-3)
A1549: ŁOK | B1549: 22 | C1549: =MID(A1549,1,LEN(A1549)-3)
... A1848: ZAŁ | B1848: 18 | C1848: =MID(A1848,1,LEN(A1848)-3)
A1849: 722 | B1849: 42 | C1849: =MID(A1849,1,LEN(A1849)-3)
A1850: ŁUD | B1850: 18 | C1850: =MID(A1850,1,LEN(A1850)-3)
A1851: ĘSZ | B1851: 18 | C1851: =MID(A1851,1,LEN(A1851)-3)
A1852: YDĄ | B1852: 18 | C1852: =MID(A1852,1,LEN(A1852)-3)
A1853: AKĄ | B1853: 18 | C1853: =MID(A1853,1,LEN(A1853)-3)
A1854: DAM | B1854: 17 | C1854: =MID(A1854,1,LEN(A1854)-3)
A1855: NAG | B1855: 17 | C1855: =MID(A1855,1,LEN(A1855)-3)
A1856: NGO | B1856: 17 | C1856: =MID(A1856,1,LEN(A1856)-3)
A1857: NOD | B1857: 17 | C1857: =MID(A1857,1,LEN(A1857)-3)
A1858: PEL | B1858: 17 | C1858: =MID(A1858,1,LEN(A1858)-3)
A1859: TAM | B1859: 17 | C1859: =MID(A1859,1,LEN(A1859)-3)
A1860: AKE | B1860: 17 | C1860: =MID(A1860,1,LEN(A1860)-3)
A1861: ALD | B1861: 17 | C1861: =MID(A1861,1,LEN(A1861)-3)
... A4673: OGE | B4673: 2 | C4673: =MID(A4673,1,LEN(A4673)-3)
A4674: 645 | B4674: 42 | C4674: =MID(A4674,1,LEN(A4674)-3)
A4675: PCJ | B4675: 2 | C4675: =MID(A4675,1,LEN(A4675)-3)
A4676: PTR | B4676: 2 | C4676: =MID(A4676,1,LEN(A4676)-3)
A4677: RFE | B4677: 2 | C4677: =MID(A4677,1,LEN(A4677)-3)
A4678: RŁO | B4678: 2 | C4678: =MID(A4678,1,LEN(A4678)-3)
A4679: RTĘ | B4679: 2 | C4679: =MID(A4679,1,LEN(A4679)-3)
A4680: SAZ | B4680: 2 | C4680: =MID(A4680,1,LEN(A4680)-3)
A4681: SEŁ | B4681: 2 | C4681: =MID(A4681,1,LEN(A4681)-3)
A4682: SKI | B4682: 2 | C4682: =MID(A4682,1,LEN(A4682)-3)
A4683: SOK | B4683: 2 | C4683: =MID(A4683,1,LEN(A4683)-3)
A4684: STK | B4684: 2 | C4684: =MID(A4684,1,LEN(A4684)-3)
A4685: SWÓ | B4685: 2 | C4685: =MID(A4685,1,LEN(A4685)-3)
A4686: SZL | B4686: 2 | C4686: =MID(A4686,1,LEN(A4686)-3)
... A5289: NIN | B5289: 1 | C5289: =MID(A5289,1,LEN(A5289)-3)

Sheet 7-345
A1: RAN | B1: 285 | C1: =MID(A1,1,LEN(A1)-3)
A2: DZI | B2: 285 | C2: =MID(A2,1,LEN(A2)-3)
A3: CHA | B3: 284 | C3: =MID(A3,1,LEN(A3)-3)
A4: CZY | B4: 272 | C4: =MID(A4,1,LEN(A4)-3)
A5: ALA | B5: 261 | C5: =MID(A5,1,LEN(A5)-3)
A6: ACZ | B6: 240 | C6: =MID(A6,1,LEN(A6)-3)
A7: OCZ | B7: 238 | C7: =MID(A7,1,LEN(A7)-3)
A8: STA | B8: 232 | C8: =MID(A8,1,LEN(A8)-3)
A9: ANI | B9: 230 | C9: =MID(A9,1,LEN(A9)-3)
A10: ONI | B10: 225 | C10: =MID(A10,1,LEN(A10)-3)
A11: SKA | B11: 220 | C11: =MID(A11,1,LEN(A11)-3)
A12: ROW | B12: 219 | C12: =MID(A12,1,LEN(A12)-3)
... A2775: DYL | B2775: 9 | C2775: =MID(A2775,1,LEN(A2775)-3)
A2776: 713 | B2776: 42 | C2776: =MID(A2776,1,LEN(A2776)-3)
A2777: KCH | B2777: 9 | C2777: =MID(A2777,1,LEN(A2777)-3)
A2778: KOJ | B2778: 9 | C2778: =MID(A2778,1,LEN(A2778)-3)
A2779: RMY | B2779: 9 | C2779: =MID(A2779,1,LEN(A2779)-3)
A2780: ZKR | B2780: 9 | C2780: =MID(A2780,1,LEN(A2780)-3)
A2781: EŻĄ | B2781: 9 | C2781: =MID(A2781,1,LEN(A2781)-3)
A2782: NOK | B2782: 9 | C2782: =MID(A2782,1,LEN(A2782)-3)
A2783: SEK | B2783: 9 | C2783: =MID(A2783,1,LEN(A2783)-3)
A2784: EED | B2784: 9 | C2784: =MID(A2784,1,LEN(A2784)-3)
A2785: EFU | B2785: 9 | C2785: =MID(A2785,1,LEN(A2785)-3)
A2786: IND | B2786: 9 | C2786: =MID(A2786,1,LEN(A2786)-3)
A2787: UFF | B2787: 9 | C2787: =MID(A2787,1,LEN(A2787)-3)
A2788: AŹN | B2788: 9 | C2788: =MID(A2788,1,LEN(A2788)-3)
... A2884: IĘŹ | B2884: 9 | C2884: =MID(A2884,1,LEN(A2884)-3)
A2885: 622 | B2885: 42 | C2885: =MID(A2885,1,LEN(A2885)-3)
A2886: CHĘ | B2886: 9 | C2886: =MID(A2886,1,LEN(A2886)-3)
A2887: ADŻ | B2887: 8 | C2887: =MID(A2887,1,LEN(A2887)-3)
A2888: UBU | B2888: 8 | C2888: =MID(A2888,1,LEN(A2888)-3)
A2889: CIŚ | B2889: 8 | C2889: =MID(A2889,1,LEN(A2889)-3)
A2890: EJK | B2890: 8 | C2890: =MID(A2890,1,LEN(A2890)-3)
A2891: GEZ | B2891: 8 | C2891: =MID(A2891,1,LEN(A2891)-3)
A2892: IMO | B2892: 8 | C2892: =MID(A2892,1,LEN(A2892)-3)
A2893: MAW | B2893: 8 | C2893: =MID(A2893,1,LEN(A2893)-3)
A2894: MEM | B2894: 8 | C2894: =MID(A2894,1,LEN(A2894)-3)
A2895: FIB | B2895: 8 | C2895: =MID(A2895,1,LEN(A2895)-3)
A2896: PUT | B2896: 8 | C2896: =MID(A2896,1,LEN(A2896)-3)
A2897: AGR | B2897: 8 | C2897: =MID(A2897,1,LEN(A2897)-3)
... A5745: ŁTL | B5745: 1 | C5745: =MID(A5745,1,LEN(A5745)-3)

Sheet 7-456
A1: KOW | B1: 842 | C1: =MID(A1,1,LEN(A1)-3)
A2: ANI | B2: 768 | C2: =MID(A2,1,LEN(A2)-3)
A3: OWA | B3: 625 | C3: =MID(A3,1,LEN(A3)-3)
A4: KAM | B4: 579 | C4: =MID(A4,1,LEN(A4)-3)
A5: KAC | B5: 523 | C5: =MID(A5,1,LEN(A5)-3)
A6: ÓWK | B6: 523 | C6: =MID(A6,1,LEN(A6)-3)
A7: TOW | B7: 510 | C7: =MID(A7,1,LEN(A7)-3)
A8: NIC | B8: 489 | C8: =MID(A8,1,LEN(A8)-3)
A9: ROW | B9: 414 | C9: =MID(A9,1,LEN(A9)-3)
A10: ONI | B10: 399 | C10: =MID(A10,1,LEN(A10)-3)
A11: ENI | B11: 394 | C11: =MID(A11,1,LEN(A11)-3)
A12: AŁE | B12: 385 | C12: =MID(A12,1,LEN(A12)-3)
... A1008: MET | B1008: 27 | C1008: =MID(A1008,1,LEN(A1008)-3)
A1009: 396 | B1009: 42 | C1009: =MID(A1009,1,LEN(A1009)-3)
A1010: ENÓ | B1010: 27 | C1010: =MID(A1010,1,LEN(A1010)-3)
A1011: EJE | B1011: 27 | C1011: =MID(A1011,1,LEN(A1011)-3)
A1012: ILA | B1012: 27 | C1012: =MID(A1012,1,LEN(A1012)-3)
A1013: KRO | B1013: 27 | C1013: =MID(A1013,1,LEN(A1013)-3)
A1014: AŁÓ | B1014: 27 | C1014: =MID(A1014,1,LEN(A1014)-3)
A1015: RIO | B1015: 27 | C1015: =MID(A1015,1,LEN(A1015)-3)
A1016: UTY | B1016: 27 | C1016: =MID(A1016,1,LEN(A1016)-3)
A1017: WEG | B1017: 27 | C1017: =MID(A1017,1,LEN(A1017)-3)
A1018: HAL | B1018: 27 | C1018: =MID(A1018,1,LEN(A1018)-3)
A1019: GŁE | B1019: 27 | C1019: =MID(A1019,1,LEN(A1019)-3)
A1020: OKÓ | B1020: 27 | C1020: =MID(A1020,1,LEN(A1020)-3)
A1021: TNE | B1021: 27 | C1021: =MID(A1021,1,LEN(A1021)-3)
... A1158: KTA | B1158: 24 | C1158: =MID(A1158,1,LEN(A1158)-3)
A1159: 453 | B1159: 42 | C1159: =MID(A1159,1,LEN(A1159)-3)
A1160: IUR | B1160: 24 | C1160: =MID(A1160,1,LEN(A1160)-3)
A1161: ISN | B1161: 24 | C1161: =MID(A1161,1,LEN(A1161)-3)
A1162: OŃC | B1162: 24 | C1162: =MID(A1162,1,LEN(A1162)-3)
A1163: OŚM | B1163: 24 | C1163: =MID(A1163,1,LEN(A1163)-3)
A1164: OŚŻ | B1164: 24 | C1164: =MID(A1164,1,LEN(A1164)-3)
A1165: WOL | B1165: 24 | C1165: =MID(A1165,1,LEN(A1165)-3)
A1166: ELN | B1166: 24 | C1166: =MID(A1166,1,LEN(A1166)-3)
A1167: ZIC | B1167: 24 | C1167: =MID(A1167,1,LEN(A1167)-3)
A1168: EPA | B1168: 24 | C1168: =MID(A1168,1,LEN(A1168)-3)
A1169: KOZ | B1169: 24 | C1169: =MID(A1169,1,LEN(A1169)-3)
A1170: OJK | B1170: 24 | C1170: =MID(A1170,1,LEN(A1170)-3)
A1171: AWM | B1171: 24 | C1171: =MID(A1171,1,LEN(A1171)-3)
... A1365: WIĄ | B1365: 19 | C1365: =MID(A1365,1,LEN(A1365)-3)
A1366: 479 | B1366: 42 | C1366: =MID(A1366,1,LEN(A1366)-3)
A1367: RUC | B1367: 19 | C1367: =MID(A1367,1,LEN(A1367)-3)
A1368: ŁUC | B1368: 19 | C1368: =MID(A1368,1,LEN(A1368)-3)
A1369: DUL | B1369: 19 | C1369: =MID(A1369,1,LEN(A1369)-3)
A1370: AZU | B1370: 19 | C1370: =MID(A1370,1,LEN(A1370)-3)
A1371: KRZ | B1371: 19 | C1371: =MID(A1371,1,LEN(A1371)-3)
A1372: BER | B1372: 19 | C1372: =MID(A1372,1,LEN(A1372)-3)
A1373: REG | B1373: 19 | C1373: =MID(A1373,1,LEN(A1373)-3)
A1374: RPI | B1374: 19 | C1374: =MID(A1374,1,LEN(A1374)-3)
A1375: ŻAR | B1375: 19 | C1375: =MID(A1375,1,LEN(A1375)-3)
A1376: EME | B1376: 19 | C1376: =MID(A1376,1,LEN(A1376)-3)
A1377: ÓRZ | B1377: 19 | C1377: =MID(A1377,1,LEN(A1377)-3)
A1378: OJO | B1378: 19 | C1378: =MID(A1378,1,LEN(A1378)-3)
... A2288: YCE | B2288: 8 | C2288: =MID(A2288,1,LEN(A2288)-3)
A2289: 498 | B2289: 42 | C2289: =MID(A2289,1,LEN(A2289)-3)
A2290: SNE | B2290: 8 | C2290: =MID(A2290,1,LEN(A2290)-3)
A2291: ŃSZ | B2291: 8 | C2291: =MID(A2291,1,LEN(A2291)-3)
A2292: RPN | B2292: 8 | C2292: =MID(A2292,1,LEN(A2292)-3)
A2293: MPI | B2293: 8 | C2293: =MID(A2293,1,LEN(A2293)-3)
A2294: PCO | B2294: 8 | C2294: =MID(A2294,1,LEN(A2294)-3)
A2295: PCÓ | B2295: 8 | C2295: =MID(A2295,1,LEN(A2295)-3)
A2296: JNE | B2296: 8 | C2296: =MID(A2296,1,LEN(A2296)-3)
A2297: JNY | B2297: 8 | C2297: =MID(A2297,1,LEN(A2297)-3)
A2298: ÓRE | B2298: 8 | C2298: =MID(A2298,1,LEN(A2298)-3)
A2299: YMU | B2299: 8 | C2299: =MID(A2299,1,LEN(A2299)-3)
A2300: FCI | B2300: 8 | C2300: =MID(A2300,1,LEN(A2300)-3)
A2301: UDU | B2301: 8 | C2301: =MID(A2301,1,LEN(A2301)-3)
... A2621: GAZ | B2621: 6 | C2621: =MID(A2621,1,LEN(A2621)-3)
A2622: 710 | B2622: 42 | C2622: =MID(A2622,1,LEN(A2622)-3)
A2623: EDÓ | B2623: 6 | C2623: =MID(A2623,1,LEN(A2623)-3)
A2624: ZGO | B2624: 6 | C2624: =MID(A2624,1,LEN(A2624)-3)
A2625: BYC | B2625: 6 | C2625: =MID(A2625,1,LEN(A2625)-3)
A2626: EAS | B2626: 6 | C2626: =MID(A2626,1,LEN(A2626)-3)
A2627: NYL | B2627: 6 | C2627: =MID(A2627,1,LEN(A2627)-3)
A2628: SUK | B2628: 6 | C2628: =MID(A2628,1,LEN(A2628)-3)
A2629: OKS | B2629: 6 | C2629: =MID(A2629,1,LEN(A2629)-3)
A2630: RBO | B2630: 6 | C2630: =MID(A2630,1,LEN(A2630)-3)
A2631: TAD | B2631: 6 | C2631: =MID(A2631,1,LEN(A2631)-3)
A2632: WAD | B2632: 6 | C2632: =MID(A2632,1,LEN(A2632)-3)
A2633: DŻO | B2633: 6 | C2633: =MID(A2633,1,LEN(A2633)-3)
A2634: MLI | B2634: 6 | C2634: =MID(A2634,1,LEN(A2634)-3)
... A3788: ŁST | B3788: 2 | C3788: =MID(A3788,1,LEN(A3788)-3)
A3789: 615 | B3789: 42 | C3789: =MID(A3789,1,LEN(A3789)-3)
A3790: ASM | B3790: 2 | C3790: =MID(A3790,1,LEN(A3790)-3)
A3791: NOO | B3791: 2 | C3791: =MID(A3791,1,LEN(A3791)-3)
A3792: YZÓ | B3792: 2 | C3792: =MID(A3792,1,LEN(A3792)-3)
A3793: ĆBY | B3793: 2 | C3793: =MID(A3793,1,LEN(A3793)-3)
A3794: JRA | B3794: 2 | C3794: =MID(A3794,1,LEN(A3794)-3)
A3795: ZĘŚ | B3795: 2 | C3795: =MID(A3795,1,LEN(A3795)-3)
A3796: ALĄ | B3796: 2 | C3796: =MID(A3796,1,LEN(A3796)-3)
A3797: NKI | B3797: 2 | C3797: =MID(A3797,1,LEN(A3797)-3)
A3798: RŃM | B3798: 2 | C3798: =MID(A3798,1,LEN(A3798)-3)
A3799: RŃŻ | B3799: 2 | C3799: =MID(A3799,1,LEN(A3799)-3)
A3800: GNE | B3800: 2 | C3800: =MID(A3800,1,LEN(A3800)-3)
A3801: ŻKI | B3801: 2 | C3801: =MID(A3801,1,LEN(A3801)-3)
... A4630: SEI | B4630: 1 | C4630: =MID(A4630,1,LEN(A4630)-3)
A4631: 552 | B4631: 42 | C4631: =MID(A4631,1,LEN(A4631)-3)
A4632: GŻO | B4632: 1 | C4632: =MID(A4632,1,LEN(A4632)-3)
A4633: KLM | B4633: 1 | C4633: =MID(A4633,1,LEN(A4633)-3)
...

Sheet 7-567
A1: ACH | B1: 2789 | C1: =MID(A1,1,LEN(A1)-3)
A2: AMI | B2: 2783 | C2: =MID(A2,1,LEN(A2)-3)
A3: OWI | B3: 1767 | C3: =MID(A3,1,LEN(A3)-3)
A4: CIE | B4: 1528 | C4: =MID(A4,1,LEN(A4)-3)
A5: NIE | B5: 1201 | C5: =MID(A5,1,LEN(A5)-3)
A6: KOM | B6: 961 | C6: =MID(A6,1,LEN(A6)-3)
A7: OWA | B7: 826 | C7: =MID(A7,1,LEN(A7)-3)
A8: OWY | B8: 819 | C8: =MID(A8,1,LEN(A8)-3)
A9: OWĄ | B9: 818 | C9: =MID(A9,1,LEN(A9)-3)
A10: OWE | B10: 815 | C10: =MID(A10,1,LEN(A10)-3)
A11: ANY | B11: 653 | C11: =MID(A11,1,LEN(A11)-3)
A12: ALI | B12: 650 | C12: =MID(A12,1,LEN(A12)-3)
... A1094: LET | B1094: 14 | C1094: =MID(A1094,1,LEN(A1094)-3)
A1095: 504 | B1095: 42 | C1095: =MID(A1095,1,LEN(A1095)-3)
A1096: MAM | B1096: 14 | C1096: =MID(A1096,1,LEN(A1096)-3)
A1097: MII | B1097: 14 | C1097: =MID(A1097,1,LEN(A1097)-3)
A1098: MIŁ | B1098: 14 | C1098: =MID(A1098,1,LEN(A1098)-3)
A1099: MIO | B1099: 14 | C1099: =MID(A1099,1,LEN(A1099)-3)
A1100: MKU | B1100: 14 | C1100: =MID(A1100,1,LEN(A1100)-3)
A1101: NGĄ | B1101: 14 | C1101: =MID(A1101,1,LEN(A1101)-3)
A1102: NGĘ | B1102: 14 | C1102: =MID(A1102,1,LEN(A1102)-3)
A1103: NSY | B1103: 14 | C1103: =MID(A1103,1,LEN(A1103)-3)
A1104: ODO | B1104: 14 | C1104: =MID(A1104,1,LEN(A1104)-3)
A1105: OŁY | B1105: 14 | C1105: =MID(A1105,1,LEN(A1105)-3)
A1106: OSO | B1106: 14 | C1106: =MID(A1106,1,LEN(A1106)-3)
A1107: ÓTŁ | B1107: 14 | C1107: =MID(A1107,1,LEN(A1107)-3)
... A1380: KOT | B1380: 9 | C1380: =MID(A1380,1,LEN(A1380)-3)
A1381: 683 | B1381: 42 | C1381: =MID(A1381,1,LEN(A1381)-3)
A1382: MBA | B1382: 9 | C1382: =MID(A1382,1,LEN(A1382)-3)
A1383: MBY | B1383: 9 | C1383: =MID(A1383,1,LEN(A1383)-3)
A1384: MEN | B1384: 9 | C1384: =MID(A1384,1,LEN(A1384)-3)
A1385: MER | B1385: 9 | C1385: =MID(A1385,1,LEN(A1385)-3)
A1386: NET | B1386: 9 | C1386: =MID(A1386,1,LEN(A1386)-3)
A1387: NOS | B1387: 9 | C1387: =MID(A1387,1,LEN(A1387)-3)
A1388: NSE | B1388: 9 | C1388: =MID(A1388,1,LEN(A1388)-3)
A1389: NTĄ | B1389: 9 | C1389: =MID(A1389,1,LEN(A1389)-3)
A1390: ŃCY | B1390: 9 | C1390: =MID(A1390,1,LEN(A1390)-3)
A1391: OMI | B1391: 9 | C1391: =MID(A1391,1,LEN(A1391)-3)
A1392: ÓKŁ | B1392: 9 | C1392: =MID(A1392,1,LEN(A1392)-3)
A1393: ÓRZ | B1393: 9 | C1393: =MID(A1393,1,LEN(A1393)-3)
... A1970: LUB | B1970: 4 | C1970: =MID(A1970,1,LEN(A1970)-3)
A1971: 404 | B1971: 42 | C1971: =MID(A1971,1,LEN(A1971)-3)
A1972: ŁAD | B1972: 4 | C1972: =MID(A1972,1,LEN(A1972)-3)
A1973: ŁAT | B1973: 4 | C1973: =MID(A1973,1,LEN(A1973)-3)
A1974: ŁAŹ | B1974: 4 | C1974: =MID(A1974,1,LEN(A1974)-3)
A1975: ŁLI | B1975: 4 | C1975: =MID(A1975,1,LEN(A1975)-3)
A1976: ŁŁA | B1976: 4 | C1976: =MID(A1976,1,LEN(A1976)-3)
A1977: ŁŁO | B1977: 4 | C1977: =MID(A1977,1,LEN(A1977)-3)
A1978: ŁŁY | B1978: 4 | C1978: =MID(A1978,1,LEN(A1978)-3)
A1979: ŁTĄ | B1979: 4 | C1979: =MID(A1979,1,LEN(A1979)-3)
A1980: ŁTE | B1980: 4 | C1980: =MID(A1980,1,LEN(A1980)-3)
A1981: ŁTO | B1981: 4 | C1981: =MID(A1981,1,LEN(A1981)-3)
A1982: MAL | B1982: 4 | C1982: =MID(A1982,1,LEN(A1982)-3)
A1983: MBĄ | B1983: 4 | C1983: =MID(A1983,1,LEN(A1983)-3)
... A2196: LGA | B2196: 3 | C2196: =MID(A2196,1,LEN(A2196)-3)
A2197: 554 | B2197: 42 | C2197: =MID(A2197,1,LEN(A2197)-3)
A2198: LOP | B2198: 3 | C2198: =MID(A2198,1,LEN(A2198)-3)
A2199: LTĄ | B2199: 3 | C2199: =MID(A2199,1,LEN(A2199)-3)
A2200: LTĘ | B2200: 3 | C2200: =MID(A2200,1,LEN(A2200)-3)
A2201: LUM | B2201: 3 | C2201: =MID(A2201,1,LEN(A2201)-3)
A2202: LŻA | B2202: 3 | C2202: =MID(A2202,1,LEN(A2202)-3)
A2203: ŁAK | B2203: 3 | C2203: =MID(A2203,1,LEN(A2203)-3)
A2204: ŁAZ | B2204: 3 | C2204: =MID(A2204,1,LEN(A2204)-3)
A2205: ŁOĆ | B2205: 3 | C2205: =MID(A2205,1,LEN(A2205)-3)
A2206: ŁYK | B2206: 3 | C2206: =MID(A2206,1,LEN(A2206)-3)
A2207: ŁYŃ | B2207: 3 | C2207: =MID(A2207,1,LEN(A2207)-3)
A2208: MEL | B2208: 3 | C2208: =MID(A2208,1,LEN(A2208)-3)
A2209: MOR | B2209: 3 | C2209: =MID(A2209,1,LEN(A2209)-3)
... A2545: KWĘ | B2545: 2 | C2545: =MID(A2545,1,LEN(A2545)-3)
A2546: 462 | B2546: 42 | C2546: =MID(A2546,1,LEN(A2546)-3)
A2547: KWO | B2547: 2 | C2547: =MID(A2547,1,LEN(A2547)-3)
A2548: KWY | B2548: 2 | C2548: =MID(A2548,1,LEN(A2548)-3)
A2549: LAB | B2549: 2 | C2549: =MID(A2549,1,LEN(A2549)-3)
A2550: LAI | B2550: 2 | C2550: =MID(A2550,1,LEN(A2550)-3)
A2551: LAW | B2551: 2 | C2551: =MID(A2551,1,LEN(A2551)-3)
A2552: LEĄ | B2552: 2 | C2552: =MID(A2552,1,LEN(A2552)-3)
A2553: LEB | B2553: 2 | C2553: =MID(A2553,1,LEN(A2553)-3)
A2554: LEE | B2554: 2 | C2554: =MID(A2554,1,LEN(A2554)-3)
A2555: LEĘ | B2555: 2 | C2555: =MID(A2555,1,LEN(A2555)-3)
A2556: LEG | B2556: 2 | C2556: =MID(A2556,1,LEN(A2556)-3)
A2557: LEO | B2557: 2 | C2557: =MID(A2557,1,LEN(A2557)-3)
A2558: LES | B2558: 2 | C2558: =MID(A2558,1,LEN(A2558)-3)
... A2597: MAG | B2597: 2 | C2597: =MID(A2597,1,LEN(A2597)-3)
A2598: 431 | B2598: 42 | C2598: =MID(A2598,1,LEN(A2598)-3)
A2599: MAŻ | B2599: 2 | C2599: =MID(A2599,1,LEN(A2599)-3)
A2600: MBU | B2600: 2 | C2600: =MID(A2600,1,LEN(A2600)-3)
A2601: MCA | B2601: 2 | C2601: =MID(A2601,1,LEN(A2601)-3)
A2602: MCĄ | B2602: 2 | C2602: =MID(A2602,1,LEN(A2602)-3)
A2603: MCĘ | B2603: 2 | C2603: =MID(A2603,1,LEN(A2603)-3)
A2604: MCO | B2604: 2 | C2604: =MID(A2604,1,LEN(A2604)-3)
A2605: MCY | B2605: 2 | C2605: =MID(A2605,1,LEN(A2605)-3)
A2606: MEB | B2606: 2 | C2606: =MID(A2606,1,LEN(A2606)-3)
A2607: MED | B2607: 2 | C2607: =MID(A2607,1,LEN(A2607)-3)
A2608: MET | B2608: 2 | C2608: =MID(A2608,1,LEN(A2608)-3)
A2609: MFU | B2609: 2 | C2609: =MID(A2609,1,LEN(A2609)-3)
A2610: MFY | B2610: 2 | C2610: =MID(A2610,1,LEN(A2610)-3)
... A3135: GÓŻ | B3135: 1 | C3135: =MID(A3135,1,LEN(A3135)-3)
A3136: 705 | B3136: 42 | C3136: =MID(A3136,1,LEN(A3136)-3)
A3137: GUB | B3137: 1 | C3137: =MID(A3137,1,LEN(A3137)-3)
A3138: GUM | B3138: 1 | C3138: =MID(A3138,1,LEN(A3138)-3)
...

Sheet Arkusz8
F1: zbitki trójek | P1: zbitki dwójek
B2: SŁOWO: | C2: kigelia | F2: =MID($C$2,1,3) -> kig | G2: =MID($C$2,2,3) -> ige | H2: =MID($C$2,3,3) -> gel | I2: =MID($C$2,4,3) -> eli | J2: =MID($C$2,5,3) -> lia | P2: =MID($C$2,1,2) -> ki | Q2: =MID($C$2,2,2) -> ig | R2: =MID($C$2,3,2) -> ge | S2: =MID($C$2,4,2) -> el | T2: =MID($C$2,5,2) -> li | U2: =MID($C$2,6,2) -> ia
D3: występowanie trójek na pozycjach | E3: 123 | F3: =IFERROR(VLOOKUP(F2,'7-123'!A:BL,2,FALSE),0) -> 7 | G3: =IFERROR(VLOOKUP(G2,'7-123'!A:B,2,FALSE),0) -> 2 | H3: =IFERROR(VLOOKUP(H2,'7-123'!A:B,2,FALSE),0) -> 2 | I3: =IFERROR(VLOOKUP(I2,'7-123'!A:B,2,FALSE),0) -> 18 | J3: =IFERROR(VLOOKUP(J2,'7-123'!A:B,2,FALSE),0) -> 17 | N3: występowanie dwójek na pozycjach | O3: 12 | P3: =IFERROR(VLOOKUP(P2,'7-12'!A:B,2,FALSE),0) -> 602 | Q3: =IFERROR(VLOOKUP(Q2,'7-12'!A:B,2,FALSE),0) -> 83 | R3: =IFERROR(VLOOKUP(R2,'7-12'!A:B,2,FALSE),0) -> 204 | S3: =IFERROR(VLOOKUP(S2,'7-12'!A:B,2,FALSE),0) -> 119 | T3: =IFERROR(VLOOKUP(T2,'7-12'!A:B,2,FALSE),0) -> 733 | U3: =IFERROR(VLOOKUP(U2,'7-12'!A:B,2,FALSE),0) -> 0
E4: 234 | F4: =IFERROR(VLOOKUP(F2,'7-234'!A:BL,2,FALSE),0) -> 0 | G4: =IFERROR(VLOOKUP(G2,'7-234'!A:B,2,FALSE),0) -> 9 | H4: =IFERROR(VLOOKUP(H2,'7-234'!A:B,2,FALSE),0) -> 2 | I4: =IFERROR(VLOOKUP(I2,'7-234'!A:B,2,FALSE),0) -> 110 | J4: =IFERROR(VLOOKUP(J2,'7-234'!A:B,2,FALSE),0) -> 16 | O4: 23 | P4: =IFERROR(VLOOKUP(P2,'7-23'!A:B,2,FALSE),0) -> 151 | Q4: =IFERROR(VLOOKUP(Q2,'7-23'!A:B,2,FALSE),0) -> 334 | R4: =IFERROR(VLOOKUP(R2,'7-23'!A:B,2,FALSE),0) -> 56 | S4: =IFERROR(VLOOKUP(S2,'7-23'!A:B,2,FALSE),0) -> 725 | T4: =IFERROR(VLOOKUP(T2,'7-23'!A:B,2,FALSE),0) -> 635 | U4: =IFERROR(VLOOKUP(U2,'7-23'!A:B,2,FALSE),0) -> 573
E5: 345 | F5: =IFERROR(VLOOKUP(F2,'7-345'!A:BL,2,FALSE),0) -> 0 | G5: =IFERROR(VLOOKUP(G2,'7-345'!A:B,2,FALSE),0) -> 0 | H5: =IFERROR(VLOOKUP(H2,'7-345'!A:B,2,FALSE),0) -> 8 | I5: =IFERROR(VLOOKUP(I2,'7-345'!A:B,2,FALSE),0) -> 101 | J5: =IFERROR(VLOOKUP(J2,'7-345'!A:B,2,FALSE),0) -> 57 | O5: 34 | P5: =IFERROR(VLOOKUP(P2,'7-34'!A:B,2,FALSE),0) -> 292 | Q5: =IFERROR(VLOOKUP(Q2,'7-34'!A:B,2,FALSE),0) -> 99 | R5: =IFERROR(VLOOKUP(R2,'7-34'!A:B,2,FALSE),0) -> 88 | S5: =IFERROR(VLOOKUP(S2,'7-34'!A:B,2,FALSE),0) -> 438 | T5: =IFERROR(VLOOKUP(T2,'7-34'!A:B,2,FALSE),0) -> 1058 | U5: =IFERROR(VLOOKUP(U2,'7-34'!A:B,2,FALSE),0) -> 485
E6: 456 | F6: =IFERROR(VLOOKUP(F2,'7-456'!A:BL,2,FALSE),0) -> 0 | G6: =IFERROR(VLOOKUP(G2,'7-456'!A:B,2,FALSE),0) -> 4 | H6: =IFERROR(VLOOKUP(H2,'7-456'!A:B,2,FALSE),0) -> 12 | I6: =IFERROR(VLOOKUP(I2,'7-456'!A:B,2,FALSE),0) -> 120 | J6: =IFERROR(VLOOKUP(J2,'7-456'!A:B,2,FALSE),0) -> 3 | O6: 45 | P6: =IFERROR(VLOOKUP(P2,'7-45'!A:B,2,FALSE),0) -> 553 | Q6: =IFERROR(VLOOKUP(Q2,'7-45'!A:B,2,FALSE),0) -> 76 | R6: =IFERROR(VLOOKUP(R2,'7-45'!A:B,2,FALSE),0) -> 58 | S6: =IFERROR(VLOOKUP(S2,'7-45'!A:B,2,FALSE),0) -> 581 | T6: =IFERROR(VLOOKUP(T2,'7-45'!A:B,2,FALSE),0) -> 1290 | U6: =IFERROR(VLOOKUP(U2,'7-45'!A:B,2,FALSE),0) -> 1076
E7: 567 | F7: =IFERROR(VLOOKUP(F2,'7-567'!A:BL,2,FALSE),0) -> 0 | G7: =IFERROR(VLOOKUP(G2,'7-567'!A:B,2,FALSE),0) -> 0 | H7: =IFERROR(VLOOKUP(H2,'7-567'!A:B,2,FALSE),0) -> 1 | I7: =IFERROR(VLOOKUP(I2,'7-567'!A:B,2,FALSE),0) -> 154 | J7: =IFERROR(VLOOKUP(J2,'7-567'!A:B,2,FALSE),0) -> 42 | K7: =(J7+I6+H5+G4+F3)/5 -> 37.2 | O7: 56 | P7: =IFERROR(VLOOKUP(P2,'7-56'!A:B,2,FALSE),0) -> 369 | Q7: =IFERROR(VLOOKUP(Q2,'7-56'!A:B,2,FALSE),0) -> 25 | R7: =IFERROR(VLOOKUP(R2,'7-56'!A:B,2,FALSE),0) -> 37 | S7: =IFERROR(VLOOKUP(S2,'7-56'!A:B,2,FALSE),0) -> 407 | T7: =IFERROR(VLOOKUP(T2,'7-56'!A:B,2,FALSE),0) -> 645 | U7: =IFERROR(VLOOKUP(U2,'7-56'!A:B,2,FALSE),0) -> 504
O8: 67 | P8: =IFERROR(VLOOKUP(P2,'7-67'!A:B,2,FALSE),0) -> 2383 | Q8: =IFERROR(VLOOKUP(Q2,'7-67'!A:B,2,FALSE),0) -> 3 | R8: =IFERROR(VLOOKUP(R2,'7-67'!A:B,2,FALSE),0) -> 11 | S8: =IFERROR(VLOOKUP(S2,'7-67'!A:B,2,FALSE),0) -> 103 | T8: =IFERROR(VLOOKUP(T2,'7-67'!A:B,2,FALSE),0) -> 1927 | U8: =IFERROR(VLOOKUP(U2,'7-67'!A:B,2,FALSE),0) -> 972
E10: śr waż (w1) | F10: =(F3*$D$11+F4+F5+F6+F7)/(4+$D$11) -> 5.5263158 | G10: =(G3+G4*$D$11+G5+G6+G7)/(4+$D$11) -> 7.4210526 | H10: =(H3+H4+H5*$D$11+H6+H7)/(4+$D$11) -> 7.2105263 | I10: =(I3+I4+I5+I6*$D$11+I7)/(4+$D$11) -> 114.89474 | J10: =(J3+J4+J5+J6+J7*$D$11)/(4+$D$11) -> 38.052632 | K10: =AVERAGE(F10:J10) -> 34.621053
C11: w1: | D11: 15
B12: w2 | C12: 2 | D12: gdy liczba trójek na pozycji< | E12: 100 | F12: =F3<$E$12 -> TRUE | G12: =G4<$E$12 -> TRUE | H12: =H5<$E$12 -> TRUE | I12: =I6<$E$12 -> FALSE | J12: =J7<$E$12 -> TRUE
B13: w3 | C13: 5 | D13: gdy liczba trójek na pozycji< | E13: 10 | F13: =F3<$E$13 -> TRUE | G13: =G4<$E$13 -> TRUE | H13: =H5<$E$13 -> TRUE | I13: =I6<$E$13 -> FALSE | J13: =J7<$E$13 -> FALSE
F15: =IF(F13,$C$13,(IF(F12,$C$12,1))) -> 5 | G15: =IF(G13,$C$13,(IF(G12,$C$12,1))) -> 5 | H15: =IF(H13,$C$13,(IF(H12,$C$12,1))) -> 5 | I15: =IF(I13,$C$13,(IF(I12,$C$12,1))) -> 1 | J15: =IF(J13,$C$13,(IF(J12,$C$12,1))) -> 2
I16: śr waż (w2+w3) | K16: =(F10*F15+G10*G15+H10*H15+I10*I15+J10*J15)/(F15+G15+I15+J15+H15) -> 16.210526

Sheet Arkusz2
A1: 1762RA | B1: =MID(A1,LEN(C1)+1,2) -> RA | C1: =MID(A1,1,LEN(A1)-2) -> 1762
A2: 1420LE | B2: =MID(A2,LEN(C2)+1,2) -> LE | C2: =MID(A2,1,LEN(A2)-2) -> 1420
A3: 1305RO | B3: =MID(A3,LEN(C3)+1,2) -> RO | C3: =MID(A3,1,LEN(A3)-2) -> 1305
A4: 1181CZ | B4: =MID(A4,LEN(C4)+1,2) -> CZ | C4: =MID(A4,1,LEN(A4)-2) -> 1181
A5: 1134IE | B5: =MID(A5,LEN(C5)+1,2) -> IE | C5: =MID(A5,1,LEN(A5)-2) -> 1134
A6: 1132NI | B6: =MID(A6,LEN(C6)+1,2) -> NI | C6: =MID(A6,1,LEN(A6)-2) -> 1132
A7: 1064PI | B7: =MID(A7,LEN(C7)+1,2) -> PI | C7: =MID(A7,1,LEN(A7)-2) -> 1064
A8: 1061LA | B8: =MID(A8,LEN(C8)+1,2) -> LA | C8: =MID(A8,1,LEN(A8)-2) -> 1061
A9: 1058LI | B9: =MID(A9,LEN(C9)+1,2) -> LI | C9: =MID(A9,1,LEN(A9)-2) -> 1058
A10: 1029WI | B10: =MID(A10,LEN(C10)+1,2) -> WI | C10: =MID(A10,1,LEN(A10)-2) -> 1029
A11: 1021SZ | B11: =MID(A11,LEN(C11)+1,2) -> SZ | C11: =MID(A11,1,LEN(A11)-2) -> 1021
A12: 1005KA | B12: =MID(A12,LEN(C12)+1,2) -> KA | C12: =MID(A12,1,LEN(A12)-2) -> 1005
... A710: 1YA | B710: =MID(A710,LEN(C710)+1,2) -> YA | C710: =MID(A710,1,LEN(A710)-2) -> 1

Sheet 7-12
A1: PO | B1: 4393
A2: ZA | B2: 3393
A3: WY | B3: 3363
A4: NA | B4: 2597
A5: KO | B5: 1959
A6: KA | B6: 1937
A7: OD | B7: 1861
A8: DO | B8: 1821
A9: MA | B9: 1812
A10: OB | B10: 1715
A11: SZ | B11: 1600
A12: PA | B12: 1535
... A462: TJ | B462: 1

Sheet 7-23
A1: AR | B1: 2645
A2: IE | B2: 1906
A3: AS | B3: 1724
A4: RA | B4: 1702
A5: OR | B5: 1641
A6: AL | B6: 1479
A7: OD | B7: 1356
A8: AN | B8: 1347
A9: AP | B9: 1313
A10: RO | B10: 1312
A11: RZ | B11: 1259
A12: OL | B12: 1247
... A615: ŹI | B615: 1

Sheet 7-34
A1: RA | B1: 1762
A2: LE | B2: 1420
A3: RO | B3: 1305
A4: CZ | B4: 1181
A5: IE | B5: 1134
A6: NI | B6: 1132
A7: PI | B7: 1064
A8: LA | B8: 1061
A9: LI | B9: 1058
A10: WI | B10: 1029
A11: SZ | B11: 1021
A12: KA | B12: 1005
... A710: YA | B710: 1

Sheet 7-45
A1: AN | B1: 2118
A2: KA | B2: 2106
A3: NI | B3: 2041
A4: OW | B4: 1876
A5: AR | B5: 1722
A6: CZ | B6: 1461
A7: RA | B7: 1394
A8: ER | B8: 1337
A9: LA | B9: 1312
A10: LI | B10: 1290
A11: TA | B11: 1269
A12: ON | B12: 1252
... A668: ŻP | B668: 1

Sheet 7-56
A1: OW | B1: 5169
A2: AN | B2: 3428
A3: NI | B3: 3332
A4: AM | B4: 3250
A5: AC | B5: 3071
A6: CI | B6: 2091
A7: AŁ | B7: 1948
A8: UJ | B8: 1929
A9: ON | B9: 1692
A10: IE | B10: 1393
A11: ĄC | B11: 1265
A12: WA | B12: 1202
... A583: ŹO | B583: 1

Sheet 7-67
A1: OM | B1: 5064
A2: IE | B2: 4273
A3: CH | B3: 3298
A4: EM | B4: 3281
A5: MI | B5: 3259
A6: ÓW | B6: 2903
A7: MY | B7: 2688
A8: KI | B8: 2383
A9: KA | B9: 2365
A10: LI | B10: 1927
A11: WI | B11: 1901
A12: NY | B12: 1897
... A470: ŻN | B470: 1
